Workbook
Name IQ_CH: 110000
Name IQ_CQ: 5000
Name IQ_CY: 10000
Name IQ_DAILY: 500000
Name IQ_FH: 100000
Name IQ_FQ: 500
Name IQ_FY: 1000
Name IQ_LTM: 2000
Name IQ_MONTH: 15000
Name IQ_NTM: 6000
Name IQ_WEEK: 50000
Name IQ_YTD: 3000

Sheet Instructions & Summary
A1: CONFIDENTIAL UNTIL 01/12/2027
A3: ="UI Last Resort Service RFP "&B4&", Bidding Workbook" -> UI Last Resort Service RFP 102026, Bidding Workbook | E3: Term | F3: Year
A4: Procurement (MMYYYY): | B4: 102026 | E4: 1Q | F4: 2027
A6: UI Last Resort Service Tranche | B6: Tranche Definition | C6: On-peak $/MWh | D6: Off-peak $/MWh | E6: Total $/MWh | F6: Total $
A7: UI LRS Tranche 1 | B7: =IF($E$4="1Q","January 1, "&$F$4&" through March 31, "&$F$4&" - 100% of the LRS load",IF($E$4="2Q","April 1, "&$F$4&" through June 30, "&$F$4&" - 100% of the LRS load",IF($E$4="3Q","July 1, "&$F$4&" through September 30, "&$F$4&" - 100% of the LRS load","October 1, "&$F$4&" through December 31, "&$F$4&" - 100% of the LRS load"))) -> January 1, 2027 through March 31, 2027 - 100% of the LRS load | C7: ='UI LRS Tranche 1'!C25 -> 0 | D7: ='UI LRS Tranche 1'!C26 -> 0 | E7: ='UI LRS Tranche 1'!C27 -> 0 | F7: ='UI LRS Tranche 1'!B27 -> 0
A9: Bidder and Bid Identification
A10: SAMPLE - Bidder "X"- NOT TO BE USED FOR BID SUBMITTAL
A11: Bidder "X"
A12: Workbook Identifier | B12: {=MID(CELL("filename"),FIND("[",CELL("filename"))+1,FIND("]",CELL("filename"))-FIND("[",CELL("filename"))-1)} -> SAMPLE LRS BIDDER WORKBOOK 10142026.xlsx
A14: Additional Instructions:
A15: 1. DO NOT USE SAMPLE BIDDER WORKBOOK FROM RFP DOCUMENTS TO SUBMIT BIDS. Use Official Bidder Workbook with your unique alpha-numeric identifier provided by UI. Price quotes provided in any other format will not be accepted.
A16: 2. Modify yellow cells only. Make no changes in other cells.
A17: 3. Do not enter pricing on this page. Pricing on this page populates automatically. Enter pricing in tabs for each Tranche in this Workbook. Workbook rounds prices to nearest $.01/MWh.
A18: 4. Make sure prices are populated for every month and for both on-peak and off-peak periods. However, prices do not have to vary on this basis (i.e. suppliers are not obligated to differentiate pricing by month or time of use).
A19: 5. Quantities on the "Bidding_Load_LRS" worksheet are the product of monthly UI load for GST and LPT customers (including those taking generation service from entities other than UI) for 07/01/2025 - 06/30/2026, times the June 2026 migration percentages (percentage of GST and LPT taking generation service from UI).
A20: 6. Suppliers are responsible for serving actual Last Resort Service load, irrespective of the quantities in this table. Quantities in workbook are for bid evaluation purposes only and are not relevant to contractual service obligations. Actual load will differ from these quantities.
A21: 7. UI is only seeking Fixed Price LRS bids, not Index Adder bids.

Sheet Bidding Load
A1: ='Instructions & Summary'!A10:D10 -> SAMPLE - Bidder "X"- NOT TO BE USED FOR BID SUBMITTAL
A3: On-peak total quantities for evaluation (MWh)
A4: Month | B4: Supplier of Last Resort Service
A5: =IF('Instructions & Summary'!$E$4="1Q",DATE('Instructions & Summary'!$F$4,1,1),IF('Instructions & Summary'!$E$4="2Q",DATE('Instructions & Summary'!$F$4,4,1),IF('Instructions & Summary'!$E$4="3Q",DATE('Instructions & Summary'!$F$4,7,1),DATE('Instructions & Summary'!$F$4,10,1)))) -> 46388 | B5: 1064
A6: =IF('Instructions & Summary'!$E$4="1Q",DATE('Instructions & Summary'!$F$4,2,1),IF('Instructions & Summary'!$E$4="2Q",DATE('Instructions & Summary'!$F$4,5,1),IF('Instructions & Summary'!$E$4="3Q",DATE('Instructions & Summary'!$F$4,8,1),DATE('Instructions & Summary'!$F$4,11,1)))) -> 46419 | B6: 1028
A7: =IF('Instructions & Summary'!$E$4="1Q",DATE('Instructions & Summary'!$F$4,3,1),IF('Instructions & Summary'!$E$4="2Q",DATE('Instructions & Summary'!$F$4,6,1),IF('Instructions & Summary'!$E$4="3Q",DATE('Instructions & Summary'!$F$4,9,1),DATE('Instructions & Summary'!$F$4,12,1)))) -> 46447 | B7: 957
A8: Total on-peak | B8: =SUM(B5:B7) -> 3049
A10: Off-peak total quantities for evaluation (MWh)
A11: Month | B11: Supplier of Last Resort Service
A12: =IF('Instructions & Summary'!$E$4="1Q",DATE('Instructions & Summary'!$F$4,1,1),IF('Instructions & Summary'!$E$4="2Q",DATE('Instructions & Summary'!$F$4,4,1),IF('Instructions & Summary'!$E$4="3Q",DATE('Instructions & Summary'!$F$4,7,1),DATE('Instructions & Summary'!$F$4,10,1)))) -> 46388 | B12: 2865
A13: =IF('Instructions & Summary'!$E$4="1Q",DATE('Instructions & Summary'!$F$4,2,1),IF('Instructions & Summary'!$E$4="2Q",DATE('Instructions & Summary'!$F$4,5,1),IF('Instructions & Summary'!$E$4="3Q",DATE('Instructions & Summary'!$F$4,8,1),DATE('Instructions & Summary'!$F$4,11,1)))) -> 46419 | B13: 2708
A14: =IF('Instructions & Summary'!$E$4="1Q",DATE('Instructions & Summary'!$F$4,3,1),IF('Instructions & Summary'!$E$4="2Q",DATE('Instructions & Summary'!$F$4,6,1),IF('Instructions & Summary'!$E$4="3Q",DATE('Instructions & Summary'!$F$4,9,1),DATE('Instructions & Summary'!$F$4,12,1)))) -> 46447 | B14: 2523
A15: Total off-peak | B15: =SUM(B12:B14) -> 8096
A17: Total | B17: =B8+B15 -> 11145

Sheet UI LRS Tranche 1
A1: ='Instructions & Summary'!A1 -> CONFIDENTIAL UNTIL 01/12/2027
A3: ='Instructions & Summary'!A7 -> UI LRS Tranche 1 | B3: ='Instructions & Summary'!B7 -> January 1, 2027 through March 31, 2027 - 100% of the LRS load
A5: Month | B5: On-peak Quantity (MWh) | C5: On-peak Bid Price ($/MWh) | D5: On-peak Total Cost ($)
A6: =IF('Instructions & Summary'!$E$4="1Q",DATE('Instructions & Summary'!$F$4,1,1),IF('Instructions & Summary'!$E$4="2Q",DATE('Instructions & Summary'!$F$4,4,1),IF('Instructions & Summary'!$E$4="3Q",DATE('Instructions & Summary'!$F$4,7,1),DATE('Instructions & Summary'!$F$4,10,1)))) -> 46388 | B6: =VLOOKUP($A6,'Bidding Load'!$A$5:$B$7,2,FALSE) -> 1064 | D6: =ROUND(C6,2)*B6 -> 0
A7: =IF('Instructions & Summary'!$E$4="1Q",DATE('Instructions & Summary'!$F$4,2,1),IF('Instructions & Summary'!$E$4="2Q",DATE('Instructions & Summary'!$F$4,5,1),IF('Instructions & Summary'!$E$4="3Q",DATE('Instructions & Summary'!$F$4,8,1),DATE('Instructions & Summary'!$F$4,11,1)))) -> 46419 | B7: =VLOOKUP($A7,'Bidding Load'!$A$5:$B$7,2,FALSE) -> 1028 | D7: =ROUND(C7,2)*B7 -> 0
A8: =IF('Instructions & Summary'!$E$4="1Q",DATE('Instructions & Summary'!$F$4,3,1),IF('Instructions & Summary'!$E$4="2Q",DATE('Instructions & Summary'!$F$4,6,1),IF('Instructions & Summary'!$E$4="3Q",DATE('Instructions & Summary'!$F$4,9,1),DATE('Instructions & Summary'!$F$4,12,1)))) -> 46447 | B8: =VLOOKUP($A8,'Bidding Load'!$A$5:$B$7,2,FALSE) -> 957 | D8: =ROUND(C8,2)*B8 -> 0
A9: Total | B9: =SUM(B6:B8) -> 3049 | C9: N/A | D9: =SUM(D6:D8) -> 0
A12: Month | B12: Off-peak Quantity (MWh) | C12: Off-peak Bid Price ($/MWh) | D12: Off-peak Total Cost ($)
A13: =IF('Instructions & Summary'!$E$4="1Q",DATE('Instructions & Summary'!$F$4,1,1),IF('Instructions & Summary'!$E$4="2Q",DATE('Instructions & Summary'!$F$4,4,1),IF('Instructions & Summary'!$E$4="3Q",DATE('Instructions & Summary'!$F$4,7,1),DATE('Instructions & Summary'!$F$4,10,1)))) -> 46388 | B13: =VLOOKUP($A13,'Bidding Load'!$A$12:$B$14,2,FALSE) -> 2865 | D13: =ROUND(C13,2)*B13 -> 0
A14: =IF('Instructions & Summary'!$E$4="1Q",DATE('Instructions & Summary'!$F$4,2,1),IF('Instructions & Summary'!$E$4="2Q",DATE('Instructions & Summary'!$F$4,5,1),IF('Instructions & Summary'!$E$4="3Q",DATE('Instructions & Summary'!$F$4,8,1),DATE('Instructions & Summary'!$F$4,11,1)))) -> 46419 | B14: =VLOOKUP($A14,'Bidding Load'!$A$12:$B$14,2,FALSE) -> 2708 | D14: =ROUND(C14,2)*B14 -> 0
A15: =IF('Instructions & Summary'!$E$4="1Q",DATE('Instructions & Summary'!$F$4,3,1),IF('Instructions & Summary'!$E$4="2Q",DATE('Instructions & Summary'!$F$4,6,1),IF('Instructions & Summary'!$E$4="3Q",DATE('Instructions & Summary'!$F$4,9,1),DATE('Instructions & Summary'!$F$4,12,1)))) -> 46447 | B15: =VLOOKUP($A15,'Bidding Load'!$A$12:$B$14,2,FALSE) -> 2523 | D15: =ROUND(C15,2)*B15 -> 0
A16: Total | B16: =SUM(B13:B15) -> 8096 | C16: N/A | D16: =SUM(D13:D15) -> 0
A18: Month | B18: Total Quantity (MWh) | C18: Weighted Price ($/MWh) | D18: Total Cost ($)
A19: =IF('Instructions & Summary'!$E$4="1Q",DATE('Instructions & Summary'!$F$4,1,1),IF('Instructions & Summary'!$E$4="2Q",DATE('Instructions & Summary'!$F$4,4,1),IF('Instructions & Summary'!$E$4="3Q",DATE('Instructions & Summary'!$F$4,7,1),DATE('Instructions & Summary'!$F$4,10,1)))) -> 46388 | B19: =SUMIF($A$6:$A$8,$A19,$B$6:$B$8)+SUMIF($A$13:$A$15,$A19,$B$13:$B$15) -> 3929 | C19: =D19/B19 -> 0 | D19: =SUMIF($A$6:$A$8,$A19,$D$6:$D$8)+SUMIF($A$13:$A$15,$A19,$D$13:$D$15) -> 0
A20: =IF('Instructions & Summary'!$E$4="1Q",DATE('Instructions & Summary'!$F$4,2,1),IF('Instructions & Summary'!$E$4="2Q",DATE('Instructions & Summary'!$F$4,5,1),IF('Instructions & Summary'!$E$4="3Q",DATE('Instructions & Summary'!$F$4,8,1),DATE('Instructions & Summary'!$F$4,11,1)))) -> 46419 | B20: =SUMIF($A$6:$A$8,$A20,$B$6:$B$8)+SUMIF($A$13:$A$15,$A20,$B$13:$B$15) -> 3736 | C20: =D20/B20 -> 0 | D20: =SUMIF($A$6:$A$8,$A20,$D$6:$D$8)+SUMIF($A$13:$A$15,$A20,$D$13:$D$15) -> 0
A21: =IF('Instructions & Summary'!$E$4="1Q",DATE('Instructions & Summary'!$F$4,3,1),IF('Instructions & Summary'!$E$4="2Q",DATE('Instructions & Summary'!$F$4,6,1),IF('Instructions & Summary'!$E$4="3Q",DATE('Instructions & Summary'!$F$4,9,1),DATE('Instructions & Summary'!$F$4,12,1)))) -> 46447 | B21: =SUMIF($A$6:$A$8,$A21,$B$6:$B$8)+SUMIF($A$13:$A$15,$A21,$B$13:$B$15) -> 3480 | C21: =D21/B21 -> 0 | D21: =SUMIF($A$6:$A$8,$A21,$D$6:$D$8)+SUMIF($A$13:$A$15,$A21,$D$13:$D$15) -> 0
A22: Total | B22: =SUM(B19:B21) -> 11145 | C22: =D22/B22 -> 0 | D22: =SUM(D19:D21) -> 0
A24: =A3 -> UI LRS Tranche 1 | B24: Total Cost | C24: $/MWh
A25: Total On-peak Bid | B25: =D9 -> 0 | C25: =B25/B9 -> 0
A26: Total Off-peak Bid | B26: =D16 -> 0 | C26: =B26/B16 -> 0
A27: Total Bid | B27: =SUM(B25:B26) -> 0 | C27: =B27/(B9+B16) -> 0
A29: Bidder Identification
A31: ='Instructions & Summary'!A10 -> SAMPLE - Bidder "X"- NOT TO BE USED FOR BID SUBMITTAL
A32: =A3 -> UI LRS Tranche 1
A33: =B3 -> January 1, 2027 through March 31, 2027 - 100% of the LRS load

Sheet Confirm
A1: Delivery Term
A3: Month | B3: Energy On-Peak Price Per MWh ($/MWh)
A4: ='UI LRS Tranche 1'!A6 -> 46388 | B4: ='UI LRS Tranche 1'!C6 -> 0
A5: ='UI LRS Tranche 1'!A7 -> 46419 | B5: ='UI LRS Tranche 1'!C7 -> 0
A6: ='UI LRS Tranche 1'!A8 -> 46447 | B6: ='UI LRS Tranche 1'!C8 -> 0
A11: Month | B11: Energy Off-Peak Price Per MWh ($/MWh)
A12: ='UI LRS Tranche 1'!A13 -> 46388 | B12: ='UI LRS Tranche 1'!C13 -> 0
A13: ='UI LRS Tranche 1'!A14 -> 46419 | B13: ='UI LRS Tranche 1'!C14 -> 0
A14: ='UI LRS Tranche 1'!A15 -> 46447 | B14: ='UI LRS Tranche 1'!C15 -> 0

Sheet Co-Pilot
A2: Q1 | B2: Check every worksheet in this workbook. List any sheet where protection is off. Do not modify the workbook.
A4: A1 | B4: Protection is off on: Co-Pilot
B5: The other four worksheets are protected. No changes were made.
